BEGIN:VCALENDAR
VERSION:2.0
PRODID:https://www.vdv-akademie.de/
NAME:VDV-Akademie
X-WR-CALNAME:VDV-Akademie
BEGIN:VTIMEZONE
TZID:Europe/Berlin
BEGIN:DAYLIGHT
DTSTART:20260329T010000
TZOFFSETFROM:+0100
TZOFFSETTO:+0200
END:DAYLIGHT
BEGIN:STANDARD
DTSTART:20261025T030000
TZOFFSETFROM:+0200
TZOFFSETTO:+0100
END:STANDARD
BEGIN:DAYLIGHT
DTSTART:20270328T010000
TZOFFSETFROM:+0100
TZOFFSETTO:+0200
END:DAYLIGHT
BEGIN:STANDARD
DTSTART:20271031T030000
TZOFFSETFROM:+0200
TZOFFSETTO:+0100
END:STANDARD
BEGIN:DAYLIGHT
DTSTART:20280326T010000
TZOFFSETFROM:+0100
TZOFFSETTO:+0200
END:DAYLIGHT
END:VTIMEZONE
BEGIN:VTIMEZONE
TZID:UTC
BEGIN:STANDARD
DTSTART:20250726T134151
TZOFFSETFROM:+0000
TZOFFSETTO:+0000
END:STANDARD
END:VTIMEZONE
BEGIN:VEVENT
UID:69e8d01fb20d1
DTSTAMP:20260422T134151Z
DTSTART;TZID=Europe/Berlin;VALUE=DATE:20260818
DTEND;TZID=Europe/Berlin;VALUE=DATE:20270925
SUMMARY:Geprüfte*r Fachwirt*in für Personenverkehr und Mobilität (IHK)
DESCRIPTION:https://www.vdv-akademie.de/produkte/gepruefte-r-fachwirt-in-fu
 er-personenverkehr-und-mobilitaet-ihk/2026-08-18?siteToken=d03f06ff4591f4b
 94fe2a52ba53b518525178c559345755b29aec2c7dbdb9c3f1\n\nDer Lehrgang 2026/27
  ist bereits ausgebucht. Bei Interesse an künftigen Lehrgängen melden Si
 e sich bitte bei Annika Olbrisch unter olbrisch@vdv.de \, wir nehmen Sie d
 ann auf die Warteliste auf.\n\nDie Digitalisierung\, der demografische Wan
 del sowie die Verkehrswende sind wesentliche Entwicklungen unserer Zeit\, 
 die zu weitreichenden Veränderungen in verschiedenen Lebensbereichen füh
 ren. Besonders im Öffentlichen Personenverkehr spielen diese Entwicklunge
 n eine Rolle. Neue Antriebstechnologien\, Anpassungen der Infrastruktur so
 wie Mobility on Demand sind nur einige Herausforderungen\, die im Rahmen v
 on Mobilität im Fokus stehen. Die damit einhergehende größere Komplexit
 ät tangiert somit nicht nur Prozesse\, Strukturen und technische Lösunge
 n\, sondern zuvorderst die Fähigkeit und die berufliche Wirksamkeit der B
 eschäftigten in unseren Unternehmen. Mit der Weiterbildung Geprüfte\\*r 
 Fachwirt\\*in für Personenverkehr und Mobilität erlangen Sie den notwend
 igen Qualifizierungsschub\, mit dem diese Herausforderungen bewältigt wer
 den können.
X-MICROSOFT-CDO-ALLDAYEVENT:TRUE
URL:https://www.vdv-akademie.de/produkte/gepruefte-r-fachwirt-in-fuer-perso
 nenverkehr-und-mobilitaet-ihk/2026-08-18?siteToken=d03f06ff4591f4b94fe2a52
 ba53b518525178c559345755b29aec2c7dbdb9c3f1
END:VEVENT
END:VCALENDAR