BEGIN:VCALENDAR
VERSION:2.0
PRODID:https://www.vdv-akademie.de/
NAME:VDV-Akademie
X-WR-CALNAME:VDV-Akademie
BEGIN:VTIMEZONE
TZID:Europe/Berlin
BEGIN:STANDARD
DTSTART:20251026T030000
TZOFFSETFROM:+0200
TZOFFSETTO:+0100
END:STANDARD
BEGIN:DAYLIGHT
DTSTART:20260329T010000
TZOFFSETFROM:+0100
TZOFFSETTO:+0200
END:DAYLIGHT
BEGIN:STANDARD
DTSTART:20261025T030000
TZOFFSETFROM:+0200
TZOFFSETTO:+0100
END:STANDARD
END:VTIMEZONE
BEGIN:VTIMEZONE
TZID:UTC
BEGIN:STANDARD
DTSTART:20250726T141741
TZOFFSETFROM:+0000
TZOFFSETTO:+0000
END:STANDARD
END:VTIMEZONE
BEGIN:VEVENT
UID:69e8d8852e606
DTSTAMP:20260422T141741Z
DTSTART;TZID=Europe/Berlin;VALUE=DATE:20260513
DTEND;TZID=Europe/Berlin;VALUE=DATE:20260514
SUMMARY:Voneinander lernen: Jubiläums-Webinarreihe
DESCRIPTION:https://www.vdv-akademie.de/produkte/voneinander-lernen-webinar
 reihe/kommunikation-in-krisen-souveraen-am-telefon-und-im-umgang-mit-medie
 n?siteToken=d03f06ff4591f4b94fe2a52ba53b518525178c559345755b29aec2c7dbdb9c
 3f1\n\nIn Krisensituationen stehen Mitarbeitende oft unter hohem Zeitdruck
  und emotionaler Belastung – gleichzeitig erwarten Kund\\*innen\, Öffen
 tlichkeit und Medien klare\, verlässliche und empathische Kommunikation. 
 Ein souveräner Umgang mit Worten wird dann zum entscheidenden Erfolgsfakt
 or.\n\nIn diesem Webinar steht im Fokus\, wie Kommunikation auch in Ausnah
 mesituationen ruhig\, strukturiert und glaubwürdig gelingt – am Telefon
  ebenso wie im Kontakt mit Medien.\n\nIn 60-90 Minuten erhalten Sie kompak
 te und praxisnahe Grundlagen für eine professionelle Krisenkommunikation.
  Sie lernen konkrete Werkzeuge kennen\, um in emotional angespannten Gespr
 ächssituationen souverän zu bleiben\, Sicherheit auszustrahlen und auch 
 unter Druck angemessen zu reagieren. Darüber hinaus erhalten Sie Einblick
 e in die Arbeitsweise von Medien und erfahren\, wie Medienanfragen in Kris
 ensituationen professionell gehandhabt werden können.\n\nDarum sollten Si
 e teilnehmen:\n\n- Sie gewinnen Sicherheit im Umgang mit emotional angespa
 nnten oder schwierigen Gesprächssituationen.\n- Sie lernen Methoden und F
 ormulierungen kennen\, um auch unter Zeitdruck professionell zu reagieren.
 \n- Sie erhalten Einblicke in die Arbeitsweise von Medien und wissen\, wie
  Sie Medienanfragen souverän begegnen.\n- Sie bekommen konkrete\, sofort 
 anwendbare Praxistipps aus realen Szenarien von Verkehrsunternehmen.\n- Si
 e stärken Ihr Auftreten in Krisenlagen – intern wie extern.\n\nZielgrup
 pe: Alle Mitarbeitenden\, die im Kundenkontakt\, in der Kommunikation oder
  in Krisensituationen tätig sind.\n\nDozentin: Barbara Helten (Rechtsanw
 ältung und Geschäftsführerin von Helten Bischof Communications GmbH)
X-MICROSOFT-CDO-ALLDAYEVENT:TRUE
URL:https://www.vdv-akademie.de/produkte/voneinander-lernen-webinarreihe/ko
 mmunikation-in-krisen-souveraen-am-telefon-und-im-umgang-mit-medien?siteTo
 ken=d03f06ff4591f4b94fe2a52ba53b518525178c559345755b29aec2c7dbdb9c3f1
END:VEVENT
END:VCALENDAR