BEGIN:VCALENDAR
VERSION:2.0
PRODID:https://www.vdv-akademie.de/
NAME:VDV-Akademie
X-WR-CALNAME:VDV-Akademie
BEGIN:VTIMEZONE
TZID:Europe/Berlin
BEGIN:STANDARD
DTSTART:20251026T030000
TZOFFSETFROM:+0200
TZOFFSETTO:+0100
END:STANDARD
BEGIN:DAYLIGHT
DTSTART:20260329T010000
TZOFFSETFROM:+0100
TZOFFSETTO:+0200
END:DAYLIGHT
BEGIN:STANDARD
DTSTART:20261025T030000
TZOFFSETFROM:+0200
TZOFFSETTO:+0100
END:STANDARD
END:VTIMEZONE
BEGIN:VTIMEZONE
TZID:UTC
BEGIN:STANDARD
DTSTART:20250726T122722
TZOFFSETFROM:+0000
TZOFFSETTO:+0000
END:STANDARD
END:VTIMEZONE
BEGIN:VEVENT
UID:69e8beaa371d7
DTSTAMP:20260422T122722Z
DTSTART;TZID=Europe/Berlin;VALUE=DATE:20260617
DTEND;TZID=Europe/Berlin;VALUE=DATE:20260618
SUMMARY:Voneinander lernen: Jubiläums-Webinarreihe
DESCRIPTION:https://www.vdv-akademie.de/produkte/voneinander-lernen-webinar
 reihe/beschaeftigte-gezielt-weiterbilden-und-staatliche-zuschuesse-effekti
 v-nutzen?siteToken=d03f06ff4591f4b94fe2a52ba53b518525178c559345755b29aec2c
 7dbdb9c3f1\n\nDie Herausforderungen der digitalen Transformation können n
 ur mit gut geschulten Mitarbeitenden gestemmt werden. Staatliche Förderun
 gen können Verkehrsunternehmen auf diesem Weg unterstützen.\n\nErfahren 
 Sie\, wie das Qualifizierungschancengesetz und das Qualifizierungsgeld öf
 fentliche Verkehrsunternehmen bei der beruflichen Weiterbildung unterstüt
 zen.\n\nWir zeigen Ihnen\, welche Fördertatbestände relevant sind\, wer 
 förderberechtigt ist\, wie Sie Anträge rechtssicher stellen und welche K
 osten anteilig erstattet werden können. Profitieren Sie von Praxisbeispie
 len und lassen Sie sich im Anschluss an das Webinar von unserer Referentin
  Susanne Sander individuell beraten.\n\nDarum sollten Sie teilnehmen:\n\n-
  Praxisrelevanz für Ihr Unternehmen: Konkrete Beispiele zeigen Ihnen sofo
 rt nutzbare Spar- und Fördermöglichkeiten.\n- Klarheit bei Fördervoraus
 setzungen: Erfahren Sie als Entscheidungsträger\, wer förderberechtigt i
 st und welche Kriterien gelten.\n- Kostenoptimierung für Ihr Unternehmen:
  Erstattung von Kostenanteilen und Tipps zur effizienten Mittelverwendung.
 \n- Zeitersparnis &amp\; Umsetzung: Schneller Weg von der Information zur 
 konkreten Umsetzung durch anschließende Beratung.\n\nAblauf: Vortrag von 
 11:00-11:45 Uhr\, im Anschluss haben die Teilnehmenden die Möglichkeit zu
  individuellen Beratungsgesprächen.\n\nZielgruppe: Personalentwickler\\*i
 nnen\, Personalverantwortliche\, Mitarbeitende in Finanzen und Controlling
  in Verkehrsunternehmen und-verbünden\n\nDozentin: Susanne Sander (Besch
 äftigtenqualifizierung &amp\; Netzwerkarbeit\, IBB Institut für Beruflic
 he Bildung AG)
X-MICROSOFT-CDO-ALLDAYEVENT:TRUE
URL:https://www.vdv-akademie.de/produkte/voneinander-lernen-webinarreihe/be
 schaeftigte-gezielt-weiterbilden-und-staatliche-zuschuesse-effektiv-nutzen
 ?siteToken=d03f06ff4591f4b94fe2a52ba53b518525178c559345755b29aec2c7dbdb9c3
 f1
END:VEVENT
END:VCALENDAR