BEGIN:VCALENDAR
VERSION:2.0
PRODID:https://www.vdv-akademie.de/
NAME:VDV-Akademie
X-WR-CALNAME:VDV-Akademie
BEGIN:VTIMEZONE
TZID:Europe/Berlin
BEGIN:STANDARD
DTSTART:20251026T030000
TZOFFSETFROM:+0200
TZOFFSETTO:+0100
END:STANDARD
BEGIN:DAYLIGHT
DTSTART:20260329T010000
TZOFFSETFROM:+0100
TZOFFSETTO:+0200
END:DAYLIGHT
BEGIN:STANDARD
DTSTART:20261025T030000
TZOFFSETFROM:+0200
TZOFFSETTO:+0100
END:STANDARD
END:VTIMEZONE
BEGIN:VTIMEZONE
TZID:UTC
BEGIN:STANDARD
DTSTART:20250726T141403
TZOFFSETFROM:+0000
TZOFFSETTO:+0000
END:STANDARD
END:VTIMEZONE
BEGIN:VEVENT
UID:69e8d7ab36a9a
DTSTAMP:20260422T141403Z
DTSTART;TZID=Europe/Berlin;VALUE=DATE:20260715
DTEND;TZID=Europe/Berlin;VALUE=DATE:20260716
SUMMARY:Voneinander lernen: Jubiläums-Webinarreihe
DESCRIPTION:https://www.vdv-akademie.de/produkte/voneinander-lernen-webinar
 reihe/foerdermittel-fuer-den-oeffentlichen-verkehr-update-zu-oepnv-relevan
 ten-foerderprogrammen-von-bund-und-laendern?siteToken=d03f06ff4591f4b94fe2
 a52ba53b518525178c559345755b29aec2c7dbdb9c3f1\n\nDie Förderlandschaft im 
 ÖPNV ist komplex und stetig im Wandel. Umso wichtiger ist es\, den Überb
 lick über aktuelle Programme\, Zuständigkeiten und zukünftige Entwicklu
 ngen zu behalten.\n\nIn diesem Webinar erhalten Sie einen Einblick sowie j
 eweils den aktuellen Sachstand zu branchenrelevanten Förderprogrammen fü
 r den ÖPNV\, zum Beispiel zum GVFG\, den Landes-GVFG\, Koförderungen der
  Länder sowie zu weiteren Förderrichtlinien von Bund und Ländern. Darü
 ber hinaus gibt das Webinar einen ersten Ausblick auf die bevorstehende EU
 -Förderperiode ab 2028.\n\nDarum sollten Sie teilnehmen:\n\n- Sie frische
 n Ihr Wissen zu aktuellen Förderprogrammen im ÖPNV auf.\n- Sie lernen F
 ördermöglichkeiten außerhalb der „klassischen“ ÖPNV-Investitionsf
 örderung kennen.\n- Sie erhalten einen Überblick über die Entwicklung 
 ÖPNV-relevanter Förderprogramme in den einzelnen Bundesländern.\n- Sie 
 bekommen frühzeitig Informationen zur nächsten EU-Förderperiode ab 2028
 .\n\nZielgruppe: Mitarbeitende im Fördermittelmanagement\, im Controlling
  sowie im Finanz- und Rechnungswesen von Verkehrsunternehmen\, Verkehrsver
 bünden\, Kommunalverwaltungen oder Ingenieurbüros.\n\nDozent: Dipl.-Ing.
  Meinhard Zistel (Fachbereichsleiter ÖPNV-Finanzierung\, VDV Köln)
X-MICROSOFT-CDO-ALLDAYEVENT:TRUE
URL:https://www.vdv-akademie.de/produkte/voneinander-lernen-webinarreihe/fo
 erdermittel-fuer-den-oeffentlichen-verkehr-update-zu-oepnv-relevanten-foer
 derprogrammen-von-bund-und-laendern?siteToken=d03f06ff4591f4b94fe2a52ba53b
 518525178c559345755b29aec2c7dbdb9c3f1
END:VEVENT
END:VCALENDAR