BEGIN:VCALENDAR
VERSION:2.0
PRODID:https://www.vdv-akademie.de/
NAME:VDV-Akademie
X-WR-CALNAME:VDV-Akademie
BEGIN:VTIMEZONE
TZID:Europe/Berlin
BEGIN:DAYLIGHT
DTSTART:20260329T010000
TZOFFSETFROM:+0100
TZOFFSETTO:+0200
END:DAYLIGHT
BEGIN:STANDARD
DTSTART:20261025T030000
TZOFFSETFROM:+0200
TZOFFSETTO:+0100
END:STANDARD
END:VTIMEZONE
BEGIN:VTIMEZONE
TZID:UTC
BEGIN:STANDARD
DTSTART:20250726T085651
TZOFFSETFROM:+0000
TZOFFSETTO:+0000
END:STANDARD
END:VTIMEZONE
BEGIN:VEVENT
UID:69e88d5374d76
DTSTAMP:20260422T085651Z
DTSTART;TZID=Europe/Berlin;VALUE=DATE:20260916
DTEND;TZID=Europe/Berlin;VALUE=DATE:20260917
SUMMARY:Voneinander lernen: Jubiläums-Webinarreihe
DESCRIPTION:https://www.vdv-akademie.de/produkte/voneinander-lernen-webinar
 reihe/dienstplangestaltung-mit-ki\n\nIn diesem kompakten Webinar zeigt And
 reas Stühler\, wie moderne KI-gestützte Tools die klassische Dienst- und
  Umlaufplanung unterstützen und beschleunigen können. Anhand praxisnaher
  Beispiele wird demonstriert\, wie Software wie Optibus Dienstpläne optim
 iert\, Szenarien berechnet und Arbeitszeit- sowie Tarifvorgaben automatisc
 h berücksichtigt.\n\nNeben Optibus werden weitere aktuelle Planungsprogra
 mme kurz vorgestellt\, sodass Teilnehmende einen schnellen Überblick übe
 r digitale Möglichkeiten der Dienstplangestaltung erhalten.\n\nDarum soll
 ten Sie teilnehmen:\n\n- Sie erfahren\, wo KI die tägliche Dienst- und Um
 laufplanung spürbar entlastet\n- Sie verstehen\, wie automatisierte Optim
 ierungsverfahren in modernen Tools funktionieren\n- Sie erhalten einen Üb
 erblick\, welche Systeme derzeit am Markt führend sind (u. a. Optibus)\n-
  Sie sehen\, wie digitale Lösungen tarifliche\, rechtliche und betrieblic
 he Vorgaben zuverlässig abbilden\n\nZielgruppe: Fach- und Führungskräft
 e aus Fahrdienst\, Einsatzleitung\, Disposition\, Verkehrsmeisterei\, Betr
 iebshofmanagement sowie Mitarbeitende aus Planung/Controlling\, die ihre D
 ienstplanung modernisieren möchten und einen praxisnahen Einblick in KI-g
 estützte Softwarelösungen suchen.\n\nDozent: Andreas Stühler (Abteilung
 sleiter Operativer Bereich stellv. Betriebsleiter BOKraft bei Stadtwerke S
 chweinfurt GmbH)
X-MICROSOFT-CDO-ALLDAYEVENT:TRUE
URL:https://www.vdv-akademie.de/produkte/voneinander-lernen-webinarreihe/di
 enstplangestaltung-mit-ki
END:VEVENT
END:VCALENDAR