BEGIN:VCALENDAR
VERSION:2.0
PRODID:https://www.vdv-akademie.de/
NAME:VDV-Akademie
X-WR-CALNAME:VDV-Akademie
BEGIN:VTIMEZONE
TZID:Europe/Berlin
BEGIN:DAYLIGHT
DTSTART:20260329T010000
TZOFFSETFROM:+0100
TZOFFSETTO:+0200
END:DAYLIGHT
BEGIN:STANDARD
DTSTART:20261025T030000
TZOFFSETFROM:+0200
TZOFFSETTO:+0100
END:STANDARD
BEGIN:DAYLIGHT
DTSTART:20270328T010000
TZOFFSETFROM:+0100
TZOFFSETTO:+0200
END:DAYLIGHT
END:VTIMEZONE
BEGIN:VTIMEZONE
TZID:UTC
BEGIN:STANDARD
DTSTART:20250726T142042
TZOFFSETFROM:+0000
TZOFFSETTO:+0000
END:STANDARD
END:VTIMEZONE
BEGIN:VEVENT
UID:69e8d93aa87b9
DTSTAMP:20260422T142042Z
DTSTART;TZID=Europe/Berlin;VALUE=DATE:20261014
DTEND;TZID=Europe/Berlin;VALUE=DATE:20261015
SUMMARY:Voneinander lernen: Jubiläums-Webinarreihe
DESCRIPTION:https://www.vdv-akademie.de/produkte/voneinander-lernen-webinar
 reihe/deutsch-im-fahrdienst?siteToken=d03f06ff4591f4b94fe2a52ba53b51852517
 8c559345755b29aec2c7dbdb9c3f1\n\nIm Fahrdienst treffen viele unterschiedli
 che Nationalitäten aufeinander\, viele der Kolleg\\*innen sprechen Deutsc
 h nicht als Muttersprache. Das kann Situationen im Arbeitsalltag schwierig
  gestalten.\n\nIn diesem Webinar arbeiten wir auf Basis einer Bedarfsanaly
 se an typischen sprachlichen Herausforderungen im Fahrdienst. Sie erfahren
 \, wie Fahrer\\*innen sprachlich unterstützt werden können\, lernen Grun
 dlagen sprachsensibler Kommunikation kennen und erhalten eine Einführung 
 in die Leichte Sprache. Ergänzend stellen wir Materialien vor\, die Sie i
 n Ihrem Arbeitsalltag weiterführend einsetzen können.Darum sollten Sie t
 eilnehmen\n\n- Sie entwickeln Sensibilität und Verständnis für Sprache 
 im Arbeitsalltag.\n- Sie lernen die Grundlagen der Leichten Sprache kennen
  und reflektieren Ihre eigene Kommunikation.\n- Sie erhalten eine Material
 sammlung sowie Praxisübungen zur Anwendung Leichter Sprache.\n\nZielgrupp
 e: Mitarbeitende aus der Leitstelle\, Mitarbeitende im Fahrdienst\, Teamle
 itungen und Führungskräfte im Fahrdienst\, Ausbilder\\*innen\n\nDozentin
 : Katrin Sonntag (Organisatorin Berufliche Weiterbildung\, VDV-Akademie Gm
 bH)
X-MICROSOFT-CDO-ALLDAYEVENT:TRUE
URL:https://www.vdv-akademie.de/produkte/voneinander-lernen-webinarreihe/de
 utsch-im-fahrdienst?siteToken=d03f06ff4591f4b94fe2a52ba53b518525178c559345
 755b29aec2c7dbdb9c3f1
END:VEVENT
END:VCALENDAR