BEGIN:VCALENDAR
VERSION:2.0
PRODID:https://www.vdv-akademie.de/
NAME:VDV-Akademie
X-WR-CALNAME:VDV-Akademie
BEGIN:VTIMEZONE
TZID:Europe/Berlin
BEGIN:DAYLIGHT
DTSTART:20260329T010000
TZOFFSETFROM:+0100
TZOFFSETTO:+0200
END:DAYLIGHT
BEGIN:STANDARD
DTSTART:20261025T030000
TZOFFSETFROM:+0200
TZOFFSETTO:+0100
END:STANDARD
BEGIN:DAYLIGHT
DTSTART:20270328T010000
TZOFFSETFROM:+0100
TZOFFSETTO:+0200
END:DAYLIGHT
END:VTIMEZONE
BEGIN:VTIMEZONE
TZID:UTC
BEGIN:STANDARD
DTSTART:20250726T123024
TZOFFSETFROM:+0000
TZOFFSETTO:+0000
END:STANDARD
END:VTIMEZONE
BEGIN:VEVENT
UID:69e8bf6029d77
DTSTAMP:20260422T123024Z
DTSTART;TZID=Europe/Berlin;VALUE=DATE:20261117
DTEND;TZID=Europe/Berlin;VALUE=DATE:20261118
SUMMARY:Voneinander lernen: Jubiläums-Webinarreihe
DESCRIPTION:https://www.vdv-akademie.de/produkte/voneinander-lernen-webinar
 reihe/grundlagen-oepnv-der-oeffentliche-verkehr-zwischen-knappen-kassen-un
 d-politischem-einfluss?siteToken=d03f06ff4591f4b94fe2a52ba53b518525178c559
 345755b29aec2c7dbdb9c3f1\n\nWarum funktioniert der öffentliche Personenna
 hverkehr oft nicht so\, wie es politisch gewünscht und gesellschaftlich e
 rwartet wird?Das Webinar gibt einen verständlichen Überblick über die S
 ystemlogik des ÖPNV in Deutschland. Ausgehend von alltäglichen Herausfor
 derungen beleuchtet Volker Wente die Entscheidungsstrukturen\, das Geschä
 ftsmodell des ÖPNV sowie den öffentlichen Auftrag zwischen Daseinsvorsor
 ge und Wirtschaftlichkeit. Zudem werden die wichtigsten rechtlichen Rahmen
 bedingungen und die Rolle der zentralen Akteure eingeordnet. Ziel ist es\,
  Zusammenhänge sichtbar zu machen und ein realistisches Verständnis für
  Handlungsspielräume und Grenzen im ÖPNV zu vermitteln.\n\nDarum sollten
  Sie teilnehmen\n\n- Sie verstehen\, wie der ÖPNV organisiert ist und war
 um Entscheidungen oft komplex sind\n- Sie erhalten einen klaren Überblick
  über Akteure\, Zuständigkeiten und Entscheidungswege\n- Sie lernen\, po
 litische Zielsetzungen und finanzielle Rahmenbedingungen realistisch einzu
 ordnen\n- Sie gewinnen ein systemisches Grundverständnis\, das hilft\, Di
 skussionen im Berufsalltag sachlich zu führen\n\nZielgruppe: Einsteiger\\
 *innen und Nachwuchskräfte in Verkehrsunternehmen\, Verwaltung oder Verb
 änden sowie Quereinsteiger\\*innen im ÖPNV und alle\, die ein grundlegen
 des Verständnis für Strukturen\, Logiken und Rahmenbedingungen des ÖPNV
  entwickeln möchten.\n\nDozent: Volker Wente (Geschäftsführer VDV-Lande
 sgruppe Nordrhein-Westfalen)
X-MICROSOFT-CDO-ALLDAYEVENT:TRUE
URL:https://www.vdv-akademie.de/produkte/voneinander-lernen-webinarreihe/gr
 undlagen-oepnv-der-oeffentliche-verkehr-zwischen-knappen-kassen-und-politi
 schem-einfluss?siteToken=d03f06ff4591f4b94fe2a52ba53b518525178c559345755b2
 9aec2c7dbdb9c3f1
END:VEVENT
END:VCALENDAR