BEGIN:VCALENDAR
VERSION:2.0
PRODID:https://www.vdv-akademie.de/
NAME:VDV-Akademie
X-WR-CALNAME:VDV-Akademie
BEGIN:VTIMEZONE
TZID:Europe/Berlin
BEGIN:DAYLIGHT
DTSTART:20260329T010000
TZOFFSETFROM:+0100
TZOFFSETTO:+0200
END:DAYLIGHT
BEGIN:STANDARD
DTSTART:20261025T030000
TZOFFSETFROM:+0200
TZOFFSETTO:+0100
END:STANDARD
BEGIN:DAYLIGHT
DTSTART:20270328T010000
TZOFFSETFROM:+0100
TZOFFSETTO:+0200
END:DAYLIGHT
END:VTIMEZONE
BEGIN:VTIMEZONE
TZID:UTC
BEGIN:STANDARD
DTSTART:20250726T142246
TZOFFSETFROM:+0000
TZOFFSETTO:+0000
END:STANDARD
END:VTIMEZONE
BEGIN:VEVENT
UID:69e8d9b66a0a6
DTSTAMP:20260422T142246Z
DTSTART;TZID=Europe/Berlin;VALUE=DATE:20261216
DTEND;TZID=Europe/Berlin;VALUE=DATE:20261217
SUMMARY:Voneinander lernen: Jubiläums-Webinarreihe
DESCRIPTION:https://www.vdv-akademie.de/produkte/voneinander-lernen-webinar
 reihe/women-in-mobility-strategien-in-sichtbarkeit-vernetzung-und-fuehrung
 skarrieren-in-verkehrsunternehmen?siteToken=d03f06ff4591f4b94fe2a52ba53b51
 8525178c559345755b29aec2c7dbdb9c3f1\n\nFrauen gestalten die Mobilität von
  morgen – doch wie gelingt der Weg in Führungspositionen? In diesem Web
 inar beleuchten wir praxisnahe Strategien für mehr Sichtbarkeit\, den Auf
 bau starker Netzwerke und die Entwicklung von Karrierepfaden in Verkehrsun
 ternehmen. Erfahren Sie\, wie Unternehmen und Einzelpersonen gemeinsam die
  Weichen für Diversität und Leadership stellen können.\n\nDarum sollten
  Sie teilnehmen:\n\n- Sie erhalten konkrete Tipps\, wie Sie Ihre eigene Si
 chtbarkeit und Vernetzung stärken.\n- Sie lernen Best Practices aus der B
 ranche kennen\, die den Weg in Führungsrollen erleichtern.\n- Sie profiti
 eren vom Austausch mit Expertinnen und Experten\, die Mobilität aktiv ges
 talten.\n\nZielgruppe: Fach- und Führungskräfte in Verkehrsunternehmen\,
  HR-Verantwortliche\, Diversity-Beauftragte sowie alle\, die sich für Cha
 ncengleichheit und Karriereentwicklung in der Mobilitätsbranche engagiere
 n.\n\nDozentin: Sonja Schmutzer (Leiterin Politik und Verbände bei Stadtw
 erke München GmbH)
X-MICROSOFT-CDO-ALLDAYEVENT:TRUE
URL:https://www.vdv-akademie.de/produkte/voneinander-lernen-webinarreihe/wo
 men-in-mobility-strategien-in-sichtbarkeit-vernetzung-und-fuehrungskarrier
 en-in-verkehrsunternehmen?siteToken=d03f06ff4591f4b94fe2a52ba53b518525178c
 559345755b29aec2c7dbdb9c3f1
END:VEVENT
END:VCALENDAR