BEGIN:VCALENDAR
VERSION:2.0
PRODID:https://www.vdv-akademie.de/
NAME:VDV-Akademie
X-WR-CALNAME:VDV-Akademie
BEGIN:VTIMEZONE
TZID:Europe/Berlin
BEGIN:DAYLIGHT
DTSTART:20260329T010000
TZOFFSETFROM:+0100
TZOFFSETTO:+0200
END:DAYLIGHT
BEGIN:STANDARD
DTSTART:20261025T030000
TZOFFSETFROM:+0200
TZOFFSETTO:+0100
END:STANDARD
BEGIN:DAYLIGHT
DTSTART:20270328T010000
TZOFFSETFROM:+0100
TZOFFSETTO:+0200
END:DAYLIGHT
END:VTIMEZONE
BEGIN:VTIMEZONE
TZID:UTC
BEGIN:STANDARD
DTSTART:20250726T090724
TZOFFSETFROM:+0000
TZOFFSETTO:+0000
END:STANDARD
END:VTIMEZONE
BEGIN:VEVENT
UID:69e88fccea08c
DTSTAMP:20260422T090724Z
DTSTART;TZID=Europe/Berlin;VALUE=DATE:20261105
DTEND;TZID=Europe/Berlin;VALUE=DATE:20261107
SUMMARY:Kommunikation für Führungskräfte
DESCRIPTION:https://www.vdv-akademie.de/produkte/kommunikation-fuer-fuehrun
 gskraefte/2026-11-05-gewerbehof-buelowbogen\n\nIn diesem Coaching unterst
 ützt Barbara Helten Führungskräfte\, die persönliche Kommunikations- u
 nd Auftrittskompetenz nachhaltig zu stärken. Ziel ist es\, komplexe Inhal
 te klar\, prägnant und verständlich zu vermitteln – sei es in Meetings
 \, in Gesprächen mit Kolleginnen\, Kollegen und Vorgesetzten oder bei öf
 fentlichen Auftritten.\n\nDie Teilnehmenden lernen\, selbstbewusst und sou
 verän aufzutreten\, klare und überzeugende Statements zu formulieren sow
 ie auch in herausfordernden Situationen schlagfertig und sicher zu kommuni
 zieren. Ein besonderer Schwerpunkt liegt auf dem Training von Krisenkommun
 ikation\, um auch unter Druck ruhig\, authentisch und wirkungsvoll zu blei
 ben.\n\nAlle Übungen werden vor der Kamera aufgezeichnet und anschließen
 d gemeinsam analysiert. Diese Methode ermöglicht eine realistische Selbst
 einschätzung\, gezieltes Feedback und eine schnelle\, nachhaltige Weitere
 ntwicklung der eigenen Wirkung.\n\n Kommunikation für Führungskräfte: S
 ouverän auftreten - überzeugend kommunizieren | Seminar-Rückblick Frank
 furt
X-MICROSOFT-CDO-ALLDAYEVENT:TRUE
URL:https://www.vdv-akademie.de/produkte/kommunikation-fuer-fuehrungskraeft
 e/2026-11-05-gewerbehof-buelowbogen
LOCATION:Bülowstraße 66\, 10785 Berlin\, Deutschland
GEO:52.49684;13.36721
X-APPLE-STRUCTURED-LOCATION;VALUE=URI;X-ADDRESS=Bülowstraße 66\, 10785 Be
 rlin\, Deutschland;X-APPLE-RADIUS=72;X-TITLE=Gewerbehof Bülowbogen Berlin
 :geo:52.49684,13.36721
END:VEVENT
END:VCALENDAR