BEGIN:VCALENDAR
VERSION:2.0
PRODID:https://www.vdv-akademie.de/
NAME:VDV-Akademie
X-WR-CALNAME:VDV-Akademie
BEGIN:VTIMEZONE
TZID:Europe/Berlin
BEGIN:STANDARD
DTSTART:20251026T030000
TZOFFSETFROM:+0200
TZOFFSETTO:+0100
END:STANDARD
BEGIN:DAYLIGHT
DTSTART:20260329T010000
TZOFFSETFROM:+0100
TZOFFSETTO:+0200
END:DAYLIGHT
BEGIN:STANDARD
DTSTART:20261025T030000
TZOFFSETFROM:+0200
TZOFFSETTO:+0100
END:STANDARD
END:VTIMEZONE
BEGIN:VTIMEZONE
TZID:UTC
BEGIN:STANDARD
DTSTART:20250726T104245
TZOFFSETFROM:+0000
TZOFFSETTO:+0000
END:STANDARD
END:VTIMEZONE
BEGIN:VEVENT
UID:69e8a6259ff32
DTSTAMP:20260422T104245Z
DTSTART;TZID=Europe/Berlin;VALUE=DATE:20260617
DTEND;TZID=Europe/Berlin;VALUE=DATE:20260619
SUMMARY:Recruiting und Bindung von Mitarbeitenden - Inklusive Führung als 
 Erfolgsfaktor
DESCRIPTION:https://www.vdv-akademie.de/produkte/recruiting-und-bindung-von
 -mitarbeitenden-inklusive-fuehrung-als-erfolgsfaktor/2026-06-17-wohngemein
 schaft-koeln?siteToken=d03f06ff4591f4b94fe2a52ba53b518525178c559345755b29a
 ec2c7dbdb9c3f1\n\nDer zunehmende Fachkräftemangel stellt Verkehrsunterneh
 men im ÖPNV vor große Herausforderungen: Qualifizierte Mitarbeitende sin
 d schwer zu finden – und ebenso schwer zu halten.\n\nGleichzeitig wachse
 n die Anforderungen an Führung und Kommunikation in einer vielfältiger w
 erdenden Gesellschaft. Um die Potenziale unterschiedlicher Zielgruppen zu 
 nutzen\, braucht es gezielte Strategien im Recruiting und eine Führungsku
 ltur\, die Vielfalt anerkennt und fördert.\n\nIn diesem zweitägigen Work
 shop erhalten Führungskräfte und Personalverantwortliche praxisnahe Werk
 zeuge für ein modernes\, strukturiertes Recruiting und eine langfristige 
 Bindung von Mitarbeitenden.\n\nSie lernen\, wie man Talente gezielt anspri
 cht\, kompetenzbasiert auswählt und eine Unternehmenskultur schafft\, die
  Vielfalt wertschätzt und Mitarbeitende stärkt. Dabei geht es nicht nur 
 um Prozesse\, sondern auch um Haltung: Die Reflexion eigener Führungserfa
 hrungen und der bewusste Umgang mit Sprache\, Zugehörigkeit und Diskrimin
 ierungsrisiken sind Teil der gemeinsamen Arbeit. Der Workshop kombiniert f
 undierte fachliche Impulse mit interaktiven Elementen und praxisnahen Meth
 oden.\n\nDie Teilnehmenden lernen\, den Recruiting-Prozess effektiv zu ste
 uern\, geeignete Wege zur Talentgewinnung einzusetzen und Auswahlprozesse 
 so zu gestalten\, dass sie fair\, nachvollziehbar und anschlussfähig für
  unterschiedliche Lebensrealitäten sind. So werden sie befähigt\, nicht 
 nur Fachkräfte gezielt zu gewinnen\, sondern auch Rahmenbedingungen zu sc
 haffen\, die eine langfristige Bindung ermöglichen – im Sinne einer mod
 ernen\, inklusiven Personalstrategie im ÖPNV.
X-MICROSOFT-CDO-ALLDAYEVENT:TRUE
URL:https://www.vdv-akademie.de/produkte/recruiting-und-bindung-von-mitarbe
 itenden-inklusive-fuehrung-als-erfolgsfaktor/2026-06-17-wohngemeinschaft-k
 oeln?siteToken=d03f06ff4591f4b94fe2a52ba53b518525178c559345755b29aec2c7dbd
 b9c3f1
LOCATION:Richard-Wagner-Str. 39\, 50674 Köln\, Deutschland
GEO:50.935429;6.934927
X-APPLE-STRUCTURED-LOCATION;VALUE=URI;X-ADDRESS=Richard-Wagner-Str. 39\, 50
 674 Köln\, Deutschland;X-APPLE-RADIUS=72;X-TITLE=die wohngemeinschaft:geo
 :50.935429,6.934927
END:VEVENT
END:VCALENDAR