BEGIN:VCALENDAR
VERSION:2.0
PRODID:https://www.vdv-akademie.de/
NAME:VDV-Akademie
X-WR-CALNAME:VDV-Akademie
BEGIN:VTIMEZONE
TZID:Europe/Berlin
BEGIN:STANDARD
DTSTART:20251026T030000
TZOFFSETFROM:+0200
TZOFFSETTO:+0100
END:STANDARD
BEGIN:DAYLIGHT
DTSTART:20260329T010000
TZOFFSETFROM:+0100
TZOFFSETTO:+0200
END:DAYLIGHT
BEGIN:STANDARD
DTSTART:20261025T030000
TZOFFSETFROM:+0200
TZOFFSETTO:+0100
END:STANDARD
END:VTIMEZONE
BEGIN:VTIMEZONE
TZID:UTC
BEGIN:STANDARD
DTSTART:20250726T104551
TZOFFSETFROM:+0000
TZOFFSETTO:+0000
END:STANDARD
END:VTIMEZONE
BEGIN:VEVENT
UID:69e8a6df37c71
DTSTAMP:20260422T104551Z
DTSTART;TZID=Europe/Berlin;VALUE=DATE:20260617
DTEND;TZID=Europe/Berlin;VALUE=DATE:20260619
SUMMARY:Grundlagen des ÖPNV
DESCRIPTION:https://www.vdv-akademie.de/produkte/systemwissen-oepnv/2026-06
 -17-stadthotel-am-roemerturm-koeln\n\nDer Öffentliche Personennahverkehr 
 (ÖPNV) ist ein komplexes System aus rechtlichen\, organisatorischen\, fin
 anziellen und betrieblichen Rahmenbedingungen. Dieses Seminar bietet einen
  fundierten Einstieg in die Mobilitätsbranche und vermittelt neues Grundl
 agenwissen für Mitarbeitende\, die erstmals im ÖPNV tätig sind. Ziel is
 t es\, Zusammenhänge zu verstehen\, Rollen einzuordnen und das eigene Auf
 gabenfeld sicher im Gesamtsystem zu verorten.\n\nZiel des Seminars ist es\
 , neuen Mitarbeitenden einen fundierten Überblick über den Öffentlichen
  Personennahverkehr zu vermitteln und sie in die Besonderheiten der Mobili
 tätsbranche einzuführen. Die Teilnehmenden lernen die zentralen Begriffe
 \, Akteure und Rollen des ÖPNV kennen und verstehen dessen Bedeutung als 
 Teil der öffentlichen Daseinsvorsorge. Sie erhalten einen Überblick übe
 r die wichtigsten rechtlichen Grundlagen sowie über Organisations- und Fi
 nanzierungsstrukturen und gewinnen ein grundlegendes Verständnis für Auf
 bau\, Betrieb und Verantwortlichkeiten in einem Verkehrsunternehmen. Darü
 ber hinaus werden aktuelle und zukünftige Herausforderungen des ÖPNV –
  etwa Digitalisierung\, nachhaltige Finanzierung und Fachkräftemangel –
  eingeordnet. Auf dieser Basis sind die Teilnehmenden in der Lage\, ihr ne
 u erworbenes ÖPNV-Wissen sinnvoll mit ihren eigenen Aufgaben und ihrer je
 weiligen fachlichen Rolle zu verknüpfen.
X-MICROSOFT-CDO-ALLDAYEVENT:TRUE
URL:https://www.vdv-akademie.de/produkte/systemwissen-oepnv/2026-06-17-stad
 thotel-am-roemerturm-koeln
LOCATION:Sankt-Apern-Straße 32\, 50667 Köln\, Deutschland
GEO:50.939728;6.946201
X-APPLE-STRUCTURED-LOCATION;VALUE=URI;X-ADDRESS=Sankt-Apern-Straße 32\, 50
 667 Köln\, Deutschland;X-APPLE-RADIUS=72;X-TITLE=Stadthotel am Römerturm
  Köln:geo:50.939728,6.946201
END:VEVENT
END:VCALENDAR