BEGIN:VCALENDAR
VERSION:2.0
PRODID:https://www.vdv-akademie.de/
NAME:VDV-Akademie
X-WR-CALNAME:VDV-Akademie
BEGIN:VTIMEZONE
TZID:Europe/Berlin
BEGIN:STANDARD
DTSTART:20251026T030000
TZOFFSETFROM:+0200
TZOFFSETTO:+0100
END:STANDARD
BEGIN:DAYLIGHT
DTSTART:20260329T010000
TZOFFSETFROM:+0100
TZOFFSETTO:+0200
END:DAYLIGHT
BEGIN:STANDARD
DTSTART:20261025T030000
TZOFFSETFROM:+0200
TZOFFSETTO:+0100
END:STANDARD
END:VTIMEZONE
BEGIN:VTIMEZONE
TZID:UTC
BEGIN:STANDARD
DTSTART:20250725T092647
TZOFFSETFROM:+0000
TZOFFSETTO:+0000
END:STANDARD
END:VTIMEZONE
BEGIN:VEVENT
UID:69e742d7c4f21
DTSTAMP:20260421T092647Z
DTSTART;TZID=Europe/Berlin;VALUE=DATE:20260518
DTEND;TZID=Europe/Berlin;VALUE=DATE:20260519
SUMMARY:ETCS Web-Konferenz
DESCRIPTION:https://www.vdv-akademie.de/produkte/etcs-wie-gehts-weiter/2026
 -05-18\n\nMit dem 1. ETCS-Kongress des VDV im vergangenen Jahr in Fulda ha
 t die Branche einen wichtigen Impuls für die weitere Umsetzung der ETCS-S
 trategie in Deutschland gesetzt. Deutlich wurde dabei: Die Einführung von
  ETCS ist ein zentraler Baustein für die Digitalisierung des Schienenverk
 ehrs sowie für mehr Kapazität\, Zuverlässigkeit und Interoperabilität 
 im Eisenbahnsystem.\n\nDie ETCS Web-Konferenz greift die dort angestoßene
 n Diskussionen auf und richtet den Blick auf aktuelle strategische und org
 anisatorische Fragen der Umsetzung. Im Mittelpunkt stehen der Rolloutplan 
 der DB InfraGO\, Perspektiven für den Einsatz von ETCS bei nichtbundeseig
 enen Eisenbahnen\, die Ausgestaltung des Förderprogramms des Bundesminist
 eriums für Mobilität\, Fragen der übergreifenden Koordination der ETCS-
 Einführung sowie die zukünftige bahnspezifische Funkkommunikation im Kon
 text von FRMCS.\n\nZiel der Veranstaltung ist es\, den Dialog zwischen Pol
 itik\, Verwaltung\, Infrastrukturbetreibern\, Eisenbahnverkehrsunternehmen
  und Industrie fortzuführen und gemeinsame Perspektiven für eine koordin
 ierte und praxisorientierte Umsetzung der ETCS-Einführung in Deutschland 
 zu entwickeln.\n\nProgramm 18.05.2026\, 9 bis 12 Uhr\n\n- Begrüßung (Mar
 tin Schmitz - Verband Deutscher Verkehrsunternehmen e. V.)\n- ETCS-Rollout
 -Plan: Detaillierte Einblicke in den aktuellen Rolloutplan und die operati
 ven Meilensteine (Daniel Kindler - DB InfraGO AG)\n- ETCS L1 FS bei NE-Bah
 nen: Strategien und technische Anforderungen für die Implementierung bei 
 Nichtbundeseigenen Eisenbahnen (Ingo Dewald - eisenbahn.jetzt GmbH )\n- BM
 V-Förderprogramm: Aktueller Sachstand und Ausblick bezüglich der finanzi
 ellen Rahmenbedingungen (Mattias Potrafke - Bundesministerium für Verkehr
 )\n- Koordinierende Stelle: Erläuterung der Strukturen und der interinsti
 tutionellen Zusammenarbeit (n.n.)\n- FRMCS/Funk: Zukunftsfähige Kommunika
 tionslösungen im Kontext der digitalen Schiene (Dr. Karsten Kemeter - Deu
 tsche Bahn AG)
X-MICROSOFT-CDO-ALLDAYEVENT:TRUE
URL:https://www.vdv-akademie.de/produkte/etcs-wie-gehts-weiter/2026-05-18
END:VEVENT
END:VCALENDAR