BEGIN:VCALENDAR
VERSION:2.0
PRODID:https://www.vdv-akademie.de/
NAME:VDV-Akademie
X-WR-CALNAME:VDV-Akademie
BEGIN:VTIMEZONE
TZID:Europe/Berlin
BEGIN:STANDARD
DTSTART:20251026T030000
TZOFFSETFROM:+0200
TZOFFSETTO:+0100
END:STANDARD
BEGIN:DAYLIGHT
DTSTART:20260329T010000
TZOFFSETFROM:+0100
TZOFFSETTO:+0200
END:DAYLIGHT
BEGIN:STANDARD
DTSTART:20261025T030000
TZOFFSETFROM:+0200
TZOFFSETTO:+0100
END:STANDARD
END:VTIMEZONE
BEGIN:VTIMEZONE
TZID:UTC
BEGIN:STANDARD
DTSTART:20250726T135821
TZOFFSETFROM:+0000
TZOFFSETTO:+0000
END:STANDARD
END:VTIMEZONE
BEGIN:VEVENT
UID:69e8d3fd91a25
DTSTAMP:20260422T135821Z
DTSTART;TZID=Europe/Berlin;VALUE=DATE:20260609
DTEND;TZID=Europe/Berlin;VALUE=DATE:20260612
SUMMARY:Fortbildung für Ausbilder*innen nach BKrFQV
DESCRIPTION:https://www.vdv-akademie.de/produkte/fortbildung-fuer-ausbilder
 -innen-nach-bkrfqv/2026-06-09-ssb-veranstaltungszentrum-waldaupark\n\nGem
 äß Verordnung zum Berufskraftfahrer-Qualifikations-Gesetz (BKrFQV) sind 
 alle Personen\, die Unterricht zur Grundqualifikation oder zur Weiterbildu
 ng nach BKrFQG durchführen\, verpflichtet\, ihre Kenntnisse alle vier Jah
 re durch eine mindestens dreitägige Fortbildung aufzufrischen. Diese Fort
 bildung umfasst insgesamt mindestens 24 Unterrichtseinheiten à 60 Minuten
 \, deckt alle relevanten Bereiche ab\, die für Ihre berufliche Tätigkeit
  von Bedeutung sind und greift die Änderungen der Verordnung zum BKrFQG a
 uf.\n\nVorteile\n\n- Die Fortbildung wird in enger Zusammenarbeit mit qual
 ifizierten Dozierenden durchgeführt.\n- Alle erforderlichen Inhalte werde
 n umfassend abgedeckt.\n- Die gesetzlichen Anforderungen nach § 7 BKrFQV 
 werden in vollem Umfang erfüllt.\n- Möglichkeit\, wertvolle Kontakte zu 
 knüpfen und sich auszutauschen.\n- Förderung des gegenseitigen Verständ
 nisses und der Zusammenarbeit innerhalb der Branche.
X-MICROSOFT-CDO-ALLDAYEVENT:TRUE
URL:https://www.vdv-akademie.de/produkte/fortbildung-fuer-ausbilder-innen-n
 ach-bkrfqv/2026-06-09-ssb-veranstaltungszentrum-waldaupark
LOCATION:Friedrich-Strobel-Weg 4 - 6\, 70597 Stuttgart\, Deutschland
GEO:48.7494562;9.1888838
X-APPLE-STRUCTURED-LOCATION;VALUE=URI;X-ADDRESS=Friedrich-Strobel-Weg 4 - 6
 \, 70597 Stuttgart\, Deutschland;X-APPLE-RADIUS=72;X-TITLE=SSB-Veranstaltu
 ngszentrum Waldaupark:geo:48.7494562,9.1888838
END:VEVENT
END:VCALENDAR