BEGIN:VCALENDAR
VERSION:2.0
PRODID:https://www.vdv-akademie.de/
NAME:VDV-Akademie
X-WR-CALNAME:VDV-Akademie
BEGIN:VTIMEZONE
TZID:Europe/Berlin
BEGIN:STANDARD
DTSTART:20251026T030000
TZOFFSETFROM:+0200
TZOFFSETTO:+0100
END:STANDARD
BEGIN:DAYLIGHT
DTSTART:20260329T010000
TZOFFSETFROM:+0100
TZOFFSETTO:+0200
END:DAYLIGHT
BEGIN:STANDARD
DTSTART:20261025T030000
TZOFFSETFROM:+0200
TZOFFSETTO:+0100
END:STANDARD
END:VTIMEZONE
BEGIN:VTIMEZONE
TZID:UTC
BEGIN:STANDARD
DTSTART:20250726T085602
TZOFFSETFROM:+0000
TZOFFSETTO:+0000
END:STANDARD
END:VTIMEZONE
BEGIN:VEVENT
UID:69e88d22cfc5a
DTSTAMP:20260422T085602Z
DTSTART;TZID=Europe/Berlin;VALUE=DATE:20260618
DTEND;TZID=Europe/Berlin;VALUE=DATE:20260620
SUMMARY:Seminarreihe: Der Faktor Mensch in der Leitstelle
DESCRIPTION:https://www.vdv-akademie.de/produkte/seminarreihe-der-faktor-me
 nsch-in-der-leitstelle-ressourcen/leitstellenfuehrung-neu-denken-haltung-f
 uehrung-und-teamarbeit-staerken\n\nSeit den 1970er Jahren hat sich das Tea
 m Resource Management (TRM) in der Luftfahrt bewährt und gilt als unverzi
 chtbarer Bestandteil\, um die Sicherheit von Menschen und Prozessen zu gew
 ährleisten. Im Gesundheitswesen\, insbesondere in Notaufnahmen und Rettun
 gsdiensten\, wurde dieses Prinzip ebenfalls erfolgreich übernommen\, um i
 n hochsensiblen Arbeitsbereichen besser zusammenzuarbeiten und Fehler zu m
 inimieren.\n\nDiese Organisationen zeigen nachweisbar\, wie durch eine sta
 rke Team- und Fehlerkultur Risiken verringert und die Resilienz gestärkt 
 werden können. Angesichts der Tatsache\, dass Leitstellen im ÖPNV tägli
 ch die Verantwortung für den Transport von Hunderten von Menschen und von
  Gütern tragen\, ist es nur folgerichtig\, dass auch hier die Prinzipien 
 des Team Resource Managements umgesetzt werden.\n\nIn diesem Seminar lerne
 n Führungskräfte\, wie sie klare und verbindliche Führungslinien etabli
 eren können\, um eine konstruktive Fehler- und Lernkultur zu schaffen –
  ohne Angst zu verbreiten. Sie erfahren\, wie wichtig es ist\, ein starkes
  Team zu formen\, das nicht nur in Krisenzeiten handlungsfähig bleibt\, s
 ondern das Unternehmen als Ganzes resilienter und zukunftsfähiger macht.\
 n\nDurch den ganzheitlichen Ansatz wird nicht nur Ihre fachliche und pers
 önliche Exzellenz gefördert\, sondern Sie erlernen auch\, wie Sie Ihr Wi
 ssen und Ihre Erfahrung an Ihr Team weitergeben können\, um dessen Stärk
 e und Resilienz weiter auszubauen.\n\nThemenschwerpunkte:\n\n- Führungsku
 ltur: Führen ohne Angst\, aber mit Verbindlichkeit\n- Teamkultur: Teams b
 ilden. Nach Fähigkeiten und Möglichkeiten. Fördern und Fordern.\n- Wiss
 ensmanagement: Fachliche Excellenz der Führungskraft und der Wille\, Wiss
 en weiterzugeben.\n- Lernkultur: Lernen fördern. Ausbildung ermöglichen.
 \n- Fehlerkultur: Aus Fehlern lernen\, um Sie zu vermeiden.\n- Resilienzen
 : Die eigene Widerstandsfähigkeit stärken\, um die Resilienz des Teams z
 u stärken\, um das Unternehmen zu stärken\n\nDieses Seminar vermittelt p
 raxisnahe Ansätze und Werkzeuge\, um Ihre Führungsfähigkeiten gezielt w
 eiterzuentwickeln. Es zeigt auf\, wie Sie mithilfe von Team Resource Manag
 ement (LeitTRM) die Stärken und Resilienz Ihres Teams fördern können\, 
 um die Leistung der gesamten Leitstelle zu steigern. Gleichzeitig unterst
 ützt es Sie dabei\, eine gesunde und nachhaltige Arbeitskultur zu schaffe
 n\, die langfristig den Erfolg Ihrer Organisation sichert.\n\nZielgruppe\n
 \nFührungspersonal in Leitstellen und/oder anderen Unternehmensbereichen 
 mit dem Willen\, das Team Resource Management und die Kultur innerhalb der
  Teams zu stärken.
X-MICROSOFT-CDO-ALLDAYEVENT:TRUE
URL:https://www.vdv-akademie.de/produkte/seminarreihe-der-faktor-mensch-in-
 der-leitstelle-ressourcen/leitstellenfuehrung-neu-denken-haltung-fuehrung-
 und-teamarbeit-staerken
LOCATION:Wikingerweg 2\, 20537 Hamburg\, Deutschland
GEO:53.551735;10.031736
X-APPLE-STRUCTURED-LOCATION;VALUE=URI;X-ADDRESS=Wikingerweg 2\, 20537 Hambu
 rg\, Deutschland;X-APPLE-RADIUS=72;X-TITLE=Holiday Inn Hamburg - Berliner 
 Tor:geo:53.551735,10.031736
END:VEVENT
END:VCALENDAR